Workbook

Sheet STATEMENT 1
A1: 2023-2024 JAMAICA BUDGET
A2: STATEMENT I
A3: REVENUE AND LOAN RECEIPTS
A4: SUMMARY
E6: Original | F6: Consolidated
A7: Head | D7: Account | E7: Estimates | F7: Fund Receipts | G7: Estimates
D8: 2021/2022 | E8: 2022/2023 | F8: 2022/2023 | G8: 2023/2024
F9: (December 2022)
D10: $ | E10: $ | F10: $ | G10: $
B12: I | C12: RECURRENT REVENUE
C14: TAXATION
C15: Customs | D15: 5.2169363e+10 | E15: 59246035025 | F15: 4.5778118e+10 | G15: 63514530000
C16: Income Tax | D16: 1.8925204e+11 | E16: 189590797067 | F16: 1.3060279e+11 | G16: 2.5182962e+11
C17: Stamp Duties | D17: 9.407197e+09 | E17: 10081715475 | F17: 8.7500507e+09 | G17: 1.3074114e+10
C18: Motor Vehicle Licences(Motor Vehicle Act) | D18: 5.3062245e+09 | E18: 5132047500 | F18: 4333301617 | G18: 5.8918779e+09
C19: Other Licences | D19: 6.1579851e+08 | E19: 1.5465412e+09 | F19: 4.0376275e+08 | G19: 2.2423311e+08
C20: Travel Tax | D20: 1.676393e+10 | E20: 15799100000 | F20: 1.8390827e+10 | G20: 28674790000
C21: Betting, Gaming and Lotteries-Duties, Fees and Levies | D21: 5.8641662e+09 | E21: 8023787100 | F21: 6284441130 | G21: 1.070621e+10
C22: Education Tax | D22: 3.4122884e+10 | E22: 36700287000 | F22: 2.8468281e+10 | G22: 4.8119125e+10
C23: Contractors Levy | D23: 2.0834051e+09 | E23: 2540120700 | F23: 2030233504 | G23: 3.1188895e+09
C24: General Consumption Tax | D24: 2.1141395e+11 | E24: 237587065800 | F24: 1.7443349e+11 | G24: 2.7903666e+11
C25: Special Consumption Tax | D25: 8.4894768e+10 | E25: 92072800000 | F25: 7.0827541e+10 | G25: 1.0400281e+11
C26: Environmental Levy | D26: 5332784436 | E26: 5490770000 | F26: 4.749815e+09 | G26: 6.6203685e+09
... C28: Guest Accomodation Room Tax | D28: 2.2294903e+09 | E28: 2577234700 | F28: 2.4352889e+09 | G28: 3.5927524e+09
C29: Minimum Business Tax | D29: 1.4201599e+08 | F29: 87367550 | G29: 0
C30: Quarry Tax | D30: 86359249 | E30: 75600000 | F30: 75271805 | G30: 1.1005458e+08
C31: Import Licences-Trade Board | D31: 3.1004773e+08 | E31: 323848704 | F31: 220380342 | G31: 327036504
C32: Telecommunication Licences | D32: 2.9319105e+09 | E32: 1528653600 | F32: 1.3028717e+09 | G32: 1844736282
C33: TOTAL | D33: 6.2635845e+11 | E33: 6.715361e+11 | F33: 5.0158577e+11 | G33: 8.2429581e+11
B36: II | C36: NON-TAX REVENUE | D36: 9.4936697e+10 | E36: 65398700000 | F36: 4.3228459e+10 | G36: 6.5228522e+10
C37: MISCELLANEOUS RECEIPTS (UNCLASSIFIED) | D37: 0 | F37: 5.3227787e+08
C39: TOTAL RECURRENT REVENUE | D39: 7.2129514e+11 | E39: 7.369348e+11 | F39: 5.4534651e+11 | G39: 8.8952433e+11
B41: III | C41: CAPITAL REVENUE
C42: Land Sales | D42: 0 | E42: 0 | F42: 0 | G42: 0
C43: Loan Repayments | D43: 9.332885e+08 | E43: 1477000000 | F43: 2.7473832e+09 | G43: 1.6833126e+08
C44: Extraordinary Receipts: Miscelleanous | D44: 2.548244e+09 | E44: 32514600000 | F44: 5.5218543e+08 | G44: 15826200000
C46: TOTAL CAPITAL REVENUE | D46: 3.4815325e+09 | E46: 33991600000 | F46: 3.2995687e+09 | G46: 1.5994531e+10
C48: TOTAL RECURRENT AND CAPITAL REVENUE | D48: 7.2477668e+11 | E48: 7.709264e+11 | F48: 5.4864608e+11 | G48: 9.0551886e+11
B51: IV | C51: GRANTS
B52: (I) | C52: TRANSFER FROM CAPITAL DEVELOPMENT FUND
...

Sheet STATEMENT 2
C1: 2023/2024 JAMAICA BUDGET
C2: STATEMENT II
C3: DETAILS OF REVENUE AND LOAN RECEIPTS
G5: Consolidated | H5: Original | I5: Fund Receipts | J5: Estimates | K5: Budget | M5: Increase (+) /
F6: REVENUE ITEM DESCRIPTION | G6: Fund Receipts | H6: Estimates | I6: 2022/2023 | J6: 2023/2024 | K6: Increase(+) / | M6: Decrease (-)
G7: 2021/2022 | H7: 2022/2023 | I7: (as at Dec-2022) | J7: ('4) | K7: Decrease (-) | M7: [(2)-(3)]
G8: ('1) | H8: ('2) | I8: ('3) | K8: [(4)-(2)]
C10: CO | D10: S1 | E10: S2 | G10: J$ | H10: J$ | I10: J$ | J10: J$ | K10: J$
F11: TAX REVENUE
A12: 20012 | B12: 000 | C12: 11 | D12: 50 | E12: 01 | F12: Import Duties | G12: ='[1]March 2022'!$E$8 -> 5.2169363e+10 | H12: 59246035025 | I12: 4.5778118e+10 | J12: 63514530000 | K12: =J12-H12 -> 4268494975 | M12: J$
A13: 20056 | B13: 000 | C13: 11 | D13: 01 | E13: 01 | F13: Income Tax-Companies | G13: 9.0006019e+10 | H13: 77522678567 | I13: 3.9259516e+10 | J13: 9.7019483e+10 | K13: =J13-H13 -> 1.9496805e+10
A14: 20056 | B14: 000 | C14: 11 | D14: 01 | E14: 02 | F14: Income Tax- Individuals | G14: 9.8860019e+10 | H14: 88989286500 | I14: 7.0035062e+10 | J14: =115971517645.26+8241828858.87 -> 1.2421335e+11 | K14: =J14-H14 -> 3.522406e+10
A15: 20056 | B15: 000 | C15: 11 | D15: 02 | E15: 01 | F15: Tax on Interest/Dividend | G15: 386000434 | H15: 23078832000 | I15: 21308214589 | J15: =26329415116.34+4267376627.07 -> 3.0596792e+10 | K15: =J15-H15 -> 7.5179597e+09
A16: 20012 | B16: 000 | C16: 11 | D16: 19 | E16: 01 | F16: Stamp Duties (local) | G16: =5007197048.04 -> 5.007197e+09 | H16: 6490290800 | I16: 3.1441152e+09 | J16: 8.6557137e+09 | K16: =J16-H16 -> 2.1654229e+09
A17: 20056 | B17: 000 | C17: 11 | D17: 19 | E17: 01 | F17: Stamp Duties (import) | G17: 4400000000 | H17: 3591424675 | I17: 5.6059355e+09 | J17: 4418400000 | K17: =J17-H17 -> 826975325
A18: 20056 | B18: 000 | C18: 11 | D18: 25 | E18: 01 | F18: Motor Vehicle Licences (Motor Vehicle Act) | G18: 5.3062245e+09 | H18: 5132047500 | I18: 4333301617 | J18: 5.8918779e+09 | K18: =J18-H18 -> 7.5983041e+08 | L18: 2.9512469e+10
A19: 20012 | B19: 000 | C19: 11 | D19: 30 | E19: 03 | F19: Customs Brokers | G19: 1131964.3 | H19: 2866369 | I19: 831500 | J19: 2350928.5 | K19: =J19-H19 -> -515440.5 | L19: 8369141.8 | M19: =#REF!-#REF! -> #REF!
A20: 20056 | B20: 000 | C20: 11 | D20: 30 | E20: 04 | F20: Gaming Machines | G20: 5.0282174e+08 | H20: 1.2732492e+09 | I20: 361289911 | J20: 1.0442891e+09 | K20: =J20-H20 -> -2.2896012e+08
A21: 20056 | B21: 000 | C21: 11 | D21: 30 | E21: 09 | F21: Tourist Shop Licence | G21: 15322360 | H21: 38799400 | I21: 9103805.2 | J21: 31822356 | K21: =J21-H21 -> -6977043.9 | L21: 2.9520838e+10 | M21: =SUM(M18:M19) -> #REF!
A22: 20056 | B22: 000 | C22: 11 | D22: 30 | E22: 10 | F22: Tourist Shop Operators Licence | G22: 25119673 | H22: 63608233 | I22: 11708656 | J22: 52169978 | K22: =J22-H22 -> -11438255
A23: 20056 | B23: 000 | C23: 11 | D23: 30 | E23: 11 | F23: Hotel Licence Duty | G23: 9136202.4 | H23: 23774187 | I23: 2595300 | J23: 19499029 | K23: =J23-H23 -> -4275157.4
A24: 20056 | B24: 000 | C24: 11 | D24: 30 | E24: 99 | F24: Other Licences | G24: 62266569 | H24: 1.4424383e+08 | I24: 18233578 | J24: 1.1839082e+08 | K24: =J24-H24 -> -25853020
A25: 20012 | B25: 000 | C25: 11 | D25: 53 | E25: 01 | F25: Travel Tax | G25: 1.5432824e+10 | H25: 11485945700 | I25: 1.2205926e+10 | J25: 20846572330 | K25: =J25-H25 -> 9360626630 | L25: 4.2196693e+10 | M25: =#REF!-#REF! -> #REF!
A26: 20012 | B26: 000 | C26: 11 | D26: 53 | E26: 02 | F26: Passenger Levy | G26: 1331105455 | H26: 4313154300 | I26: 6.184901e+09 | J26: 7828217670 | K26: =J26-H26 -> 3515063370 | L26: 7.6878802e+10 | M26: =#REF!-#REF! -> #REF!
A27: 20056 | B27: 000 | C27: 11 | D27: 20 | E27: 01 | F27: Betting, Gaming and Lotteries-Duties, Fees and Levies | G27: 5.8641662e+09 | H27: 8023787100 | I27: 6284441130 | J27: 9.6619209e+09 | K27: =J27-H27 -> 1.6381338e+09 | M27: =#REF!-#REF! -> #REF!
A28: 20056 | B28: 000 | C28: 11 | D28: 06 | E28: 01 | F28: Education Tax | G28: 3.4122884e+10 | H28: 36700287000 | I28: 2.8468281e+10 | J28: 4.8119125e+10 | K28: =J28-H28 -> 1.1418838e+10 | L28: 1.1801001e+10 | M28: =#REF!-#REF! -> #REF!
A29: 20056 | B29: 000 | C29: 11 | D29: 07 | E29: 01 | F29: Contractors Levy | G29: 2.0834051e+09 | H29: 2540120700 | I29: 2030233504 | J29: 3.1188895e+09 | K29: =J29-H29 -> 5.7876877e+08
A30: 20012 | B30: 000 | C30: 11 | D30: 15 | E30: 01 | F30: General Consumption Tax | G30: 1.1194697e+11 | H30: 119622219900 | I30: 8.7248766e+10 | J30: 1.564385e+11 | K30: =J30-H30 -> 3.6816284e+10
A31: 20056 | B31: 000 | C31: 11 | D31: 15 | E31: 01 | F31: General Consumption Tax | G31: =91466981046+8000000000 -> 99466981046 | H31: 117964845900 | I31: 8.7184726e+10 | J31: 122598160000 | K31: =J31-H31 -> 4633314100
A32: 20012 | B32: 000 | C32: 11 | D32: 16 | E32: 01 | F32: Special Consumption Tax | G32: 3.1759477e+10 | H32: 29777600000 | I32: 5.0271444e+10 | J32: 3.0631244e+10 | K32: =J32-H32 -> 8.5364367e+08
A33: 20056 | B33: 000 | C33: 11 | D33: 16 | E33: 01 | F33: Special Consumption Tax | G33: 5.3135291e+10 | H33: 62295200000 | I33: 2.0556097e+10 | J33: 7.3371564e+10 | K33: =J33-H33 -> 1.1076364e+10
A34: 20012 | B34: 000 | C34: 11 | D34: 32 | E34: 01 | F34: Environmental Levy | G34: 2832782336 | H34: 731000000 | I34: 3.8370379e+09 | J34: 7.5216474e+08 | K34: =J34-H34 -> 21164738 | L34: 1.2022405e+10 | M34: =SUM(M33:M33) -> 0
A35: 20056 | B35: 000 | C35: 11 | D35: 32 | E35: 01 | F35: Environmental Levy | G35: 2500002100 | H35: 4759770000 | I35: 9.1277709e+08 | J35: 5.8682038e+09 | K35: =J35-H35 -> 1.1084338e+09
A36: 20056 | B36: 000 | C36: 11 | D36: 35 | E36: 01 | F36: Telephone Call Tax | G36: 3.4321151e+09 | H36: 3219695000 | I36: 2411934889 | J36: 3.6079974e+09 | K36: =J36-H36 -> 3.883024e+08
A37: 20056 | B37: 000 | C37: 11 | D37: 20 | E37: 01 | F37: Guest Accomodation Room Tax | G37: 2.2294903e+09 | H37: 2577234700 | I37: 2.4352889e+09 | J37: 3.5927524e+09 | K37: =J37-H37 -> 1.0155177e+09
A38: 20056 | B38: 000 | C38: 11 | D38: 62 | E38: 01 | F38: Minimum Business Tax | G38: 1.4201599e+08 | I38: 87367550 | J38: =H38*5%+H38 -> 0 | K38: =J38-H38 -> 0 | L38: 2.9666369e+09 | M38: =#REF!-#REF! -> #REF!
A39: 68000 | B39: 577 | C39: 11 | D39: 60 | E39: 01 | F39: Quarry Tax | G39: 86359249 | H39: 75600000 | I39: 75271805 | J39: 1.1005458e+08 | K39: =J39-H39 -> 34454579
A40: 50000 | B40: 794 | C40: 11 | D40: 55 | E40: 01 | F40: Import Licences-Trade Board | G40: 3.1004773e+08 | H40: 323848704 | I40: 220380342 | J40: 327036504 | K40: =J40-H40 -> 3187800 | L40: 2.9666369e+09 | M40: =SUM(M38:M39) -> #REF!
A41: 56000 | B41: 761 | C41: 11 | D41: 30 | E41: 01 | F41: Telecommunication Licences | G41: 2.9319105e+09 | H41: 1528653600 | I41: 1.3028717e+09 | J41: 1844736282 | K41: =J41-H41 -> 316082682
F42: TOTAL TAX REVENUE | G42: =SUM(G12:G41) -> 6.2635845e+11 | H42: =SUM(H12:H41) -> 6.715361e+11 | I42: =SUM(I12:I41) -> 5.0158577e+11 | J42: =SUM(J12:J41) -> 8.2429581e+11 | K42: =J42-H42 -> 1.5275971e+11 | L42: =SUM(L12:L41) -> 2.0787385e+11 | M42: =SUM(M12:M41) -> #REF! | N42: =SUM(N12:N41) -> 0
...

Sheet STATEMENT 3
B1: 2023-2024 JAMAICA BUDGET
B2: STATEMENT III
B3: Summary of Revenue Estimates and Estimates of Expenditure for the Year 2023-2024
B4: $'000
B5: RECURRENT
A6: REVENUE | G6: EXPENDITURE
D7: Estimates, | I7: Estimates,
D8: 2023/2024 | I8: 2023/2024
A9: I | B9: Taxation Revenue | C9: RECURRENT REVENUE | H9: RECURRENT EXPENDITURE
B11: Customs | C11: Customs | D11: ='STATEMENT 1'!G15 -> 63514530000 | H11: His Excellency the Governor-General and Staff | I11: 445342000
B12: General Consumption Tax | C12: Income Tax | D12: ='STATEMENT 1'!G16 -> 2.5182962e+11 | H12: Houses of Parliament | I12: 1492637000
B13: Special Consumption Tax | C13: Stamp Duties | D13: ='STATEMENT 1'!G17 -> 1.3074114e+10 | H13: Office of the Public Defender | I13: 397925000
B14: Income Tax | C14: Motor Vehicle Licences(Motor Vehicle Act) | D14: ='STATEMENT 1'!G18 -> 5.8918779e+09 | H14: Auditor General | I14: 1210325000
B15: Minimum Business Tax | C15: Other Licences | D15: ='STATEMENT 1'!G19 -> 2.2423311e+08 | H15: Office of the Services Commissions | I15: 505911000
B16: Stamp Duties | C16: Travel Tax | D16: ='STATEMENT 1'!G20 -> 28674790000 | H16: Office of the Children's Advocate | I16: 372207000
B17: Motor Vehicle Licences | C17: Betting, Gaming and Lotteries-Duties, Fees and Levies | D17: ='STATEMENT 1'!G21 -> 1.070621e+10 | H17: Independent Commission of Investigations | I17: 908786000
B18: Other Licences | C18: Education Tax | D18: ='STATEMENT 1'!G22 -> 4.8119125e+10 | H18: Integrity Commission | I18: 1255241000
B19: Travel Tax | C19: Contractors Levy | D19: ='STATEMENT 1'!G23 -> 3.1188895e+09 | H19: Independent Fiscal Commission | I19: 261052000
B20: Betting, Gaming and Lotteries - Duty, Fees, Levies | C20: General Consumption Tax | D20: ='STATEMENT 1'!G24 -> 2.7903666e+11 | H20: Office of the Prime Minister | I20: 10740456000
B21: Education Tax | C21: Special Consumption Tax | D21: ='STATEMENT 1'!G25 -> 1.0400281e+11 | H21: Office of the Cabinet | I21: 1176554000
B22: Contractors Levy | C22: Environmental Levy | D22: ='STATEMENT 1'!G26 -> 6.6203685e+09 | H22: Ministry of Tourism | I22: 12037068000
... B25: Subtotal Taxation | C25: Minimum Business Tax | D25: ='STATEMENT 1'!G29 -> 0 | H25: Ministry of National Security | I25: 117140673000
C26: Quarry Tax | D26: ='STATEMENT 1'!G30 -> 1.1005458e+08 | H26: Ministry of Legal and Constitutional Affairs | I26: 875397000
C27: Import Licences-Trade Board | D27: ='STATEMENT 1'!G31 -> 327036504 | H27: Ministry of Justice | I27: 14334947000
C28: Telecommunication Licences | D28: ='STATEMENT 1'!G32 -> 1844736282 | H28: Ministry of Foreign Affairs and Foreign Trade | I28: 5842136000
H29: Ministry of Labour and Social Security | I29: 16977027000
C30: TOTAL TAX REVENUE | D30: =SUM(D11:D29) -> 8.2429581e+11 | H30: Ministry of Education, Youth and Education | I30: 147410769000
H31: Ministry of Health and Wellness | I31: 119198916000
H32: Ministry of Culture, Gender, Entertainment and Sport | I32: 5361112000
C33: NON-TAX REVENUE | D33: ='STATEMENT 1'!G36 -> 6.5228522e+10 | H33: Ministry of Agriculture and Fisheries | I33: 14035828000
H34: Ministry of Industry, Investment and Commerce | I34: 6472864000
C35: SUBTOTAL NON TAX REVENUE | D35: =D33 -> 6.5228522e+10 | H35: Ministry of Science, Energy and Technology | I35: 11386724000
H36: Ministry of Transport and Mining | I36: 16354350000
H37: Ministry of Local Government and Rural Development | I37: 21854816000
C38: TRANSFERS FROM CAPITAL DEVELOPMENT FUND | D38: ='STATEMENT 1'!G53 -> 1283400000
B42: Subtotal Non-Tax Revenue
H43: GROSS TOTOTAL | I43: =SUM(I11:I37) -> 982377058000
B44: Transfers from Capital Development Fund
H45: Less Appropriations-In-Aid | I45: -36077303000
B51: Total Recurrent Revenue | C51: TOTAL RECURRENT REVENUE | D51: =D30+D33+D38 -> 8.9080773e+11 | H51: TOTAL RECURRENT EXPENDITURE | I51: =I43+I45 -> 946299755000
...

Sheet STATEMENT 4
A1: 2023-2024 JAMAICA BUDGET
A2: STATEMENT IV
A3: Statement of the Financing of the Estimates of Expenditure for the Year 2023-2024
B5: Recurrent Revenue | G5: Recurrent Expenditure
B7: Taxation Revenue | C7: 8.2429581e+11 | G7: Consolidated Fund Charges | H7: 310638168000
B8: Non-Tax Revenue | C8: 6.5228522e+10 | G8: Voted Expenditure | H8: 635661587000
B9: Transfer from the Capital Development Fund | C9: 1283400000 | G9: Current Account Surplus
B11: TOTAL | C11: 8.9080773e+11 | G11: TOTAL | H11: 946299755000
B13: Current Account Surplus
B14: Capital Revenue | C14: 1.5994531e+10
B15: Grants | C15: 6591107000
B16: Loan Funds | G16: CAPITAL EXPENDITURE
B18: (A) External Loans | G18: Consolidated Fund Charges
G19: Voted Expenditure | H19: 75372890000
B20: (i) Multilateral | C20: 6.0330795e+10 | G20: Deficit / Surplus
B21: (ii) Bilateral | C21: 17066369000
B22: (iii) Other
B24: Total External Loans | C24: 7.7397164e+10
B26: (B) Domestic Loans | C26: 62075307000
B28: TOTAL LOAN FUNDS | C28: 1.3947247e+11
B48: TOTAL | C48: 1.0528658e+12 | G48: TOTAL | H48: 1021672645000

Sheet STATEMENT 5
A1: 2023-2024 JAMAICA BUDGET
A2: STATEMENT V
A4: STATEMENT OF STATUTORY EXPENDITURE CHARGED
A5: TO THE CONSOLIDATED FUND
A8: Head | C8: Head of Estimates | F8: Particulars of Service | I8: Amount | L8: Statutory Authority
A9: No.
A12: 01000 | C12: His Excellency the Governor-General and Staff | F12: Emoluments of the Governor-General and his personal staff as well as general expenditure affiliated to the office of the Governor-General | I12: 318255000 | L12: Section 12 of the Governor-General (Expenditure, Personal Staff, Tax Exemptions and Pensions) Act.
A14: 02000 | C14: Houses of Parliament | F14: Salaries and Allowances of the Clerk and Deputy Clerk of the Senate and the House of Representatives. | I14: 19780000 | L14: Section 47 (8) of the Constitution of Jamaica.
A16: 03000 | C16: Office of the Public Defender | F16: Salary and Allowances of the Public Defender. | I16: 22886000 | L16: Section 9 of the Public Defender Interim Act 33/1999
A18: 05000 | C18: Auditor General | F18: Salary of the Auditor General | I18: 18539000 | L18: Section 120–122 of the Constitution of Jamaica; Section 25–36 of the Financial Administration and Audit Act.
A20: 06000 | C20: Office of the Services Commissions | F20: Salaries and Allowances of the Chairman and members of the Public Service Commissions. | I20: 18623000 | L20: Section 124 (8) of the Constitution of Jamaica.
A22: 07000 | C22: Office of the Children's Advocate | F22: Salary of the Children's Advocate | I22: 18083000 | L22: The Child Care and Protection Act, First Schedule
I23: 0
A24: 08000 | C24: Independent Commission of Investigations | F24: Salary of the Commissioner | I24: 16490000 | L24: The Independent Commission of Investigations Act, First Schedule
I25: 0
A26: 09000 | C26: Integrity Commission | F26: Salaries and Allowances for the Commissioners of the Integrity Commission | I26: 38600000 | L26: Section 22 of the Integrity Commission Act
A28: 10000 | C28: Independent Fiscal Commission | F28: Salary of the Commissioner | I28: 15792000 | L28: Section 8 of the Independent Fiscal Commission Act
A30: 20017 | C30: Public Debt Servicing (Amortisation) | F30: Payment for the amortisation of loans raised by the Government of Jamaica. | I30: 125452029000 | L30: Section 119 of the Constitution of Jamaica
A32: 20018 | C32: Public Debt Servicing (Interest Payments) | F32: Payment of interest, service charges and commitment fees in respect of the public debt of Jamaica. | I32: 155157521000 | L32: Section 119 of the Constitution of Jamaica.
A34: 20019 | C34: Pensions | F34: Public Officers Pensions, Gratuities and Monthly Allowances granted in pursuance of the provisions of the Pensions Act. | I34: 9714813000 | L34: Section 4 of the Pensions Act.
F36: Jamaica Defence Force Pension | I36: 2420100000 | L36: Defence (Retired, Pay Pensions and other Grants) Regulation, 1962
F38: Payment of Pensions and Gratuities to Teachers in accordance with the Pensions Act | I38: 10331825000 | L38: The Pensions (Teachers) Act.
F40: Payment of Pensions, Gratuities or other allowances to Sub-Officers and Constables of the Police Force in accordance with the Constabulary Force Act | I40: 4588234000 | L40: Constabulary Force Act.
F42: Payment of retiring allowances, Widows’ allowances or gratuity to legislators in accordance with the provisions of the Retiring Allowance (Legislative Service) Act, and/or The Pensions (Prime Minister) Act. | I42: 255046000 | L42: Section 12 of the Retiring Allowances (Legislative Service) Act and Section 7 of the Pensions (Prime Minister) Act.
F46: Refund of Family Benefits Contributions in accordance with the Provisions of the Pensions (Civil Service Family Benefits) Act. | I46: 53974000 | L46: Section 10 of the Pensions (Civil Service Family Benefits) Act.
F48: Payment of Pensions in accordance with the Provisions of the Pensions (Civil Service Family Benefits) Act. | I48: 646511000 | L48: Pensions (Civil Service Family Benefits) Act.
F50: Payment of Pensions to retired Parish Councillors and/or their widows in accordance with the provisions of the Retiring Allowances (Parish Councillors) Act | I50: 91189000 | L50: Parish Councillors Act 2005
F52: Payment of Pensions to the retired members of the Electoral Commission and their widows | I52: 69488000 | L52: The Pensions Act
F54: Payment of Pensions to the retired Ombudsmen and their widows. | I54: 11000000 | L54: The Ombudsman Act
F56: Governor-General's Pension | I56: 22300000 | L56: Governor General Act
F58: Payment of Pensions to the retired Contractor General and his widow in accordance with the Contractor General Act. | I58: 12500000 | L58: The Contractor General Act
F60: Jamaica Agricultural Society Pensions | I60: 6857000 | L60: Provident Fund Act
F62: Payment of Pensions to the former employees, Jamaica Railway Corporation. | I62: 237209000 | L62: Jamaica Railway Corporation (Pensions) Regulations
F64: Total Pensions | I64: =+SUM(I34:I62) -> 28461046000
A67: 28025 | C67: Director of Public Prosecutions | F67: Payment of Salary to the Director of Public Prosecutions | I67: 14600000 | L67: Section 95 (2) of the Constitution of Jamaica
A69: 28058 | C69: Judiciary | F69: Payment of Salaries to the Judges of the Court of Appeal and the Supreme Court | I69: 1065924000 | L69: Section 107 (1) of the Constitution of Jamaica
F71: Total | I71: =SUM(I12:I32)+I64+SUM(I67:I69) -> 310638168000

Sheet SUMMARY SHEET AUGUST -DECEMBER
A1: Consolidated | B1: August | C1: sept | E1: October | F1: nov | G1: DECEMBER UPDATE
A2: Fund Receipts | B2: Consolidated | C2: Consolidated | F2: Consolidated | G2: Consolidated | H2: Consolidated
A3: 2022/2023 | B3: Fund | C3: Fund | E3: Consolidated | F3: Fund | G3: Fund | H3: Fund
A4: 2022-2023 JAMAICA BUDGET | B4: Receipts | C4: Receipts | E4: Fund | F4: Receipts | G4: Receipts | H4: Receipts
B5: YEAR TO DATE | C5: Total | E5: Receipts | F5: Total | G5: YEAR TO DATE | H5: TOTAL
B6: ('3) | E6: Total | G6: ('3)
A7: REVENUE ITEM DESCRIPTION | F7: J$ | G7: J$
C8: J$ | E8: J$
A9: Import Duties | B9: 5.4526651e+09 | C9: 5.2977482e+09 | E9: 4.8930526e+09 | F9: 5.834021e+09 | G9: 4.9688914e+09 | H9: =B9+C9+E9+F9+G9 -> 2.6446378e+10
A10: Income Tax-Companies | B10: 853347880 | C10: 12120873052 | E10: 878087143 | F10: 1355069916 | G10: 9947823869 | H10: =B10+C10+E10+F10+G10 -> 25155201860
A11: Income Tax-Individuals | B11: 7.2318118e+09 | C11: 7.1092189e+09 | E11: 7564299631 | F11: 7130006109 | G11: 10437243229 | H11: =B11+C11+E11+F11+G11 -> 39472579693
A12: Tax on Interest/Dividend | B12: 2198289309 | C12: 2394436960 | E12: 2.0012818e+09 | F12: 2.4625727e+09 | G12: 3.4482071e+09 | H12: =B12+C12+E12+F12+G12 -> 1.2504788e+10
A13: Stamp Duties | B13: 3.6501067e+08 | C13: 3.3494641e+08 | E13: 3.8754308e+08 | F13: 4.184174e+08 | G13: 4.2367802e+08 | H13: =B13+C13+E13+F13+G13 -> 1.9295956e+09
A14: Stamp Duties | B14: 655828177 | C14: 512588442 | E14: 630944651 | F14: 639927873 | G14: 559700107 | H14: =B14+C14+E14+F14+G14 -> 2998989250
A15: Motor Vehicle Licences (Motor Vehicle Act) | B15: 410773174 | C15: 412279273 | E15: 405572381 | F15: 461070364 | G15: 440413567 | H15: =B15+C15+E15+F15+G15 -> 2130108759
A16: Customs Brokers | B16: 40000 | C16: 160000 | E16: 20000 | F16: 0 | G16: 1500 | H16: =B16+C16+E16+F16+G16 -> 221500
A17: Gaming Machines | B17: 46723213 | C17: 45088955 | E17: 40917703 | F17: 43753081 | G17: 37697773 | H17: =B17+C17+E17+F17+G17 -> 214180725
A18: Tourist Shop Licence | B18: 531729.95 | C18: 276926.83 | E18: 50861.15 | F18: 152660 | G18: 0 | H18: =B18+C18+E18+F18+G18 -> 1012177.9
A19: Tourist Shop Operators Licence | B19: 306245.9 | C19: 405445.52 | E19: 101719.25 | F19: 0 | G19: 0 | H19: =B19+C19+E19+F19+G19 -> 813410.67
A20: Hotel Licence Duty | B20: 0 | C20: 139500 | E20: 11400 | F20: 0 | G20: 900 | H20: =B20+C20+E20+F20+G20 -> 151800
... A39: TOTAL TAX REVENUE | B39: 5.9339815e+10 | C39: 6.3204086e+10 | E39: 4.6752098e+10 | F39: 5.8049256e+10 | G39: 6.497038e+10 | H39: =B39+C39+E39+F39+G39 -> 2.9231563e+11
B40: 0 | G40: 0 | H40: =B40+C40+E40+F40+G40 -> 0
E41: 0 | G41: 0 | H41: =B41+C41+E41+F41+G41 -> 0
A42: HIS EXCELLENCY THE GOVERNOR GENERAL AND STAFF | D42: 0 | G42: 0 | H42: =B42+C42+E42+F42+G42 -> 0
A43: Processing Fees | B43: 0 | C43: 0 | D43: 0 | E43: 0 | F43: 0 | G43: 0 | H43: =B43+C43+E43+F43+G43 -> 0
A44: Miscellaneous Fees | B44: 0 | C44: 0 | D44: 0 | E44: 0 | F44: 0 | G44: 0 | H44: =B44+C44+E44+F44+G44 -> 0
A45: TOTAL- HIS EXCELLENCY THE GOVERNOR GENERAL AND STAFF | B45: 0 | C45: 0 | D45: 0 | E45: 0 | H45: =B45+C45+E45+F45+G45 -> 0
H46: =B46+C46+E46+F46+G46 -> 0
A47: HOUSE OF PARLIAMENT | B47: 0 | C47: 0 | F47: 0 | G47: 0 | H47: =B47+C47+E47+F47+G47 -> 0
A48: Miscellaneous Fees (Food & Beverage) | B48: 0 | C48: 0 | D48: 0 | F48: 0 | G48: 0 | H48: =B48+C48+E48+F48+G48 -> 0
A49: TOTAL-HOUSE OF PARLIAMENT | B49: 0 | C49: 0 | D49: 0 | H49: =B49+C49+E49+F49+G49 -> 0
H50: =B50+C50+E50+F50+G50 -> 0
A51: INDEPENDENT COMMISSION OF INVESTIGATIONS(INDECOM) | B51: 0 | C51: 0 | E51: 0 | F51: 0 | H51: =B51+C51+E51+F51+G51 -> 0
A52: Miscellaneous Fees | B52: 160561.69 | C52: 99481.53 | D52: 99481.53 | E52: 500 | G52: 500 | H52: =B52+C52+E52+F52+G52 -> 261043.22
A53: TOTAL-INDEPENDENT COMMISSION OF INVESTIGATIONS(INDECOM) | B53: 160561.69 | C53: 99481.53 | D53: 99481.53 | E53: 500 | F53: 0 | G53: =G52 -> 500 | H53: =B53+C53+E53+F53+G53 -> 261043.22
B54: 0 | C54: 0 | E54: 0 | F54: 0 | H54: =B54+C54+E54+F54+G54 -> 0
B55: 0 | C55: 0 | F55: 0 | H55: =B55+C55+E55+F55+G55 -> 0
A56: INTEGRITY COMMISSION OF JAMAICA (FORMERLY OFFICE OF THE CONTRACTOR GENERAL) | B56: 0 | C56: 0 | E56: 0 | F56: 0 | G56: 0 | H56: =B56+C56+E56+F56+G56 -> 0
A57: Contractor's Registration Fees | B57: 0 | C57: 0 | D57: 0 | E57: 0 | F57: 500 | G57: 0 | H57: =B57+C57+E57+F57+G57 -> 500
A58: TOTAL - INTEGRITY COMMISSION OF JAMAICA (FORMERLY OFFICE OF THE CONTRACTOR GENERAL) | B58: 0 | C58: 0 | D58: 0 | E58: 0 | F58: 500 | H58: =B58+C58+E58+F58+G58 -> 500
...

Sheet Sheet1
